BEGIN:VCALENDAR
VERSION:2.0
PRODID:-//Columbia Area Transit - ECPv6.15.20//NONSGML v1.0//EN
CALSCALE:GREGORIAN
METHOD:PUBLISH
X-ORIGINAL-URL:https://www.ridecatbus.org
X-WR-CALDESC:Events for Columbia Area Transit
REFRESH-INTERVAL;VALUE=DURATION:PT1H
X-Robots-Tag:noindex
X-PUBLISHED-TTL:PT1H
BEGIN:VTIMEZONE
TZID:America/Los_Angeles
BEGIN:DAYLIGHT
TZOFFSETFROM:-0800
TZOFFSETTO:-0700
TZNAME:PDT
DTSTART:20240310T100000
END:DAYLIGHT
BEGIN:STANDARD
TZOFFSETFROM:-0700
TZOFFSETTO:-0800
TZNAME:PST
DTSTART:20241103T090000
END:STANDARD
BEGIN:DAYLIGHT
TZOFFSETFROM:-0800
TZOFFSETTO:-0700
TZNAME:PDT
DTSTART:20250309T100000
END:DAYLIGHT
BEGIN:STANDARD
TZOFFSETFROM:-0700
TZOFFSETTO:-0800
TZNAME:PST
DTSTART:20251102T090000
END:STANDARD
BEGIN:DAYLIGHT
TZOFFSETFROM:-0800
TZOFFSETTO:-0700
TZNAME:PDT
DTSTART:20260308T100000
END:DAYLIGHT
BEGIN:STANDARD
TZOFFSETFROM:-0700
TZOFFSETTO:-0800
TZNAME:PST
DTSTART:20261101T090000
END:STANDARD
END:VTIMEZONE
BEGIN:VEVENT
DTSTART;TZID=America/Los_Angeles:20251212T120000
DTEND;TZID=America/Los_Angeles:20251212T130000
DTSTAMP:20260423T093042
CREATED:20251202T012400Z
LAST-MODIFIED:20251206T003437Z
UID:13951-1765540800-1765544400@www.ridecatbus.org
SUMMARY:STIF Advisory Committee Meeting
DESCRIPTION:This is a public meeting. \nJoin Zoom Meeting by computer:\nhttps://us02web.zoom.us/j/81384250116?pwd=h5i544CbbPicOAQuaCOfZhdlpwDb4z.1\n\nJoin Zoom Meeting by Phone:\nPhone Number: 253-205-0468\nMeeting ID: 813 8425 0116\nPasscode: 685523
URL:https://www.ridecatbus.org/event/stif-advisory-committee-meeting-2/
CATEGORIES:Committee
END:VEVENT
BEGIN:VEVENT
DTSTART;TZID=America/Los_Angeles:20251217T160000
DTEND;TZID=America/Los_Angeles:20251217T173000
DTSTAMP:20260423T093042
CREATED:20241209T235207Z
LAST-MODIFIED:20251213T011055Z
UID:12066-1765987200-1765992600@www.ridecatbus.org
SUMMARY:HRCTD Board of Directors Meeting
DESCRIPTION:This is a public meeting and public comment may be submitted at the meeting or in advance by sending to the Project Coordinator at Tim@catransit.org. \nJoin Zoom Meeting online:\nhttps://us02web.zoom.us/j/83889113516?pwd=bi91Z0diTTRUVW9lbnkwajJFalpVUT09 \nJoin Zoom Meeting over the phone:\nPhone Number: 253-215-8782\nMeeting ID: 838 8911 3516\nPasscode: 554889
URL:https://www.ridecatbus.org/event/hrctd-board-of-directors-meeting-35/
CATEGORIES:Board Meeting
END:VEVENT
BEGIN:VEVENT
DTSTART;VALUE=DATE:20251225
DTEND;VALUE=DATE:20251226
DTSTAMP:20260423T093042
CREATED:20240705T192045Z
LAST-MODIFIED:20240705T192045Z
UID:11130-1766620800-1766707199@www.ridecatbus.org
SUMMARY:Christmas Day
DESCRIPTION:All CAT services will be closed for the holiday.
URL:https://www.ridecatbus.org/event/christmas-day-2/
END:VEVENT
END:VCALENDAR