BEGIN:VCALENDAR
VERSION:2.0
PRODID:-//Columbia Area Transit - ECPv6.15.20//NONSGML v1.0//EN
CALSCALE:GREGORIAN
METHOD:PUBLISH
X-WR-CALNAME:Columbia Area Transit
X-ORIGINAL-URL:https://www.ridecatbus.org
X-WR-CALDESC:Events for Columbia Area Transit
REFRESH-INTERVAL;VALUE=DURATION:PT1H
X-Robots-Tag:noindex
X-PUBLISHED-TTL:PT1H
BEGIN:VTIMEZONE
TZID:America/Los_Angeles
BEGIN:DAYLIGHT
TZOFFSETFROM:-0800
TZOFFSETTO:-0700
TZNAME:PDT
DTSTART:20240310T100000
END:DAYLIGHT
BEGIN:STANDARD
TZOFFSETFROM:-0700
TZOFFSETTO:-0800
TZNAME:PST
DTSTART:20241103T090000
END:STANDARD
BEGIN:DAYLIGHT
TZOFFSETFROM:-0800
TZOFFSETTO:-0700
TZNAME:PDT
DTSTART:20250309T100000
END:DAYLIGHT
BEGIN:STANDARD
TZOFFSETFROM:-0700
TZOFFSETTO:-0800
TZNAME:PST
DTSTART:20251102T090000
END:STANDARD
BEGIN:DAYLIGHT
TZOFFSETFROM:-0800
TZOFFSETTO:-0700
TZNAME:PDT
DTSTART:20260308T100000
END:DAYLIGHT
BEGIN:STANDARD
TZOFFSETFROM:-0700
TZOFFSETTO:-0800
TZNAME:PST
DTSTART:20261101T090000
END:STANDARD
END:VTIMEZONE
BEGIN:VEVENT
DTSTART;TZID=America/Los_Angeles:20250618T160000
DTEND;TZID=America/Los_Angeles:20250618T161500
DTSTAMP:20260423T194656
CREATED:20250614T040652Z
LAST-MODIFIED:20250614T040941Z
UID:12952-1750262400-1750263300@www.ridecatbus.org
SUMMARY:FY2026 Budget Hearing
DESCRIPTION:This is a public hearing to review the HRCTD Budget Committee formal FY2026 Budget recommendations and finalize the Budget. The Budget Hearing will be followed by the regular monthly Board meeting. \nJoin Zoom Meeting online:\nhttps://us02web.zoom.us/j/83889113516?pwd=bi91Z0diTTRUVW9lbnkwajJFalpVUT09 \nJoin Zoom Meeting over the phone:\nPhone Number: 253-215-8782\nMeeting ID: 838 8911 3516\nPasscode: 554889 \n 
URL:https://www.ridecatbus.org/event/fy26-budget-hearing/
CATEGORIES:Board Meeting
END:VEVENT
BEGIN:VEVENT
DTSTART;TZID=America/Los_Angeles:20250618T161500
DTEND;TZID=America/Los_Angeles:20250618T173000
DTSTAMP:20260423T194656
CREATED:20241209T234143Z
LAST-MODIFIED:20250614T040445Z
UID:12054-1750263300-1750267800@www.ridecatbus.org
SUMMARY:HRCTD Board of Directors Meeting
DESCRIPTION:This is a public meeting and public comment may be submitted at the meeting or in advance by sending to the Project Coordinator at Tim@catransit.org. \nJoin Zoom Meeting online:\nhttps://us02web.zoom.us/j/83889113516?pwd=bi91Z0diTTRUVW9lbnkwajJFalpVUT09 \nJoin Zoom Meeting over the phone:\nPhone Number: 253-215-8782\nMeeting ID: 838 8911 3516\nPasscode: 554889
URL:https://www.ridecatbus.org/event/hrctd-board-of-directors-meeting-29/
CATEGORIES:Board Meeting
END:VEVENT
BEGIN:VEVENT
DTSTART;VALUE=DATE:20250619
DTEND;VALUE=DATE:20250620
DTSTAMP:20260423T194656
CREATED:20240705T191031Z
LAST-MODIFIED:20240705T191031Z
UID:11120-1750291200-1750377599@www.ridecatbus.org
SUMMARY:Juneteenth
DESCRIPTION:Operating weekend service
URL:https://www.ridecatbus.org/event/juneteenth/
END:VEVENT
END:VCALENDAR