BEGIN:VCALENDAR
VERSION:2.0
PRODID:-//Columbia Area Transit - ECPv6.15.20//NONSGML v1.0//EN
CALSCALE:GREGORIAN
METHOD:PUBLISH
X-WR-CALNAME:Columbia Area Transit
X-ORIGINAL-URL:https://www.ridecatbus.org
X-WR-CALDESC:Events for Columbia Area Transit
REFRESH-INTERVAL;VALUE=DURATION:PT1H
X-Robots-Tag:noindex
X-PUBLISHED-TTL:PT1H
BEGIN:VTIMEZONE
TZID:America/Los_Angeles
BEGIN:DAYLIGHT
TZOFFSETFROM:-0800
TZOFFSETTO:-0700
TZNAME:PDT
DTSTART:20240310T100000
END:DAYLIGHT
BEGIN:STANDARD
TZOFFSETFROM:-0700
TZOFFSETTO:-0800
TZNAME:PST
DTSTART:20241103T090000
END:STANDARD
BEGIN:DAYLIGHT
TZOFFSETFROM:-0800
TZOFFSETTO:-0700
TZNAME:PDT
DTSTART:20250309T100000
END:DAYLIGHT
BEGIN:STANDARD
TZOFFSETFROM:-0700
TZOFFSETTO:-0800
TZNAME:PST
DTSTART:20251102T090000
END:STANDARD
BEGIN:DAYLIGHT
TZOFFSETFROM:-0800
TZOFFSETTO:-0700
TZNAME:PDT
DTSTART:20260308T100000
END:DAYLIGHT
BEGIN:STANDARD
TZOFFSETFROM:-0700
TZOFFSETTO:-0800
TZNAME:PST
DTSTART:20261101T090000
END:STANDARD
END:VTIMEZONE
BEGIN:VEVENT
DTSTART;TZID=America/Los_Angeles:20250521T160000
DTEND;TZID=America/Los_Angeles:20250521T173000
DTSTAMP:20260423T211810
CREATED:20241209T233843Z
LAST-MODIFIED:20250516T170430Z
UID:12051-1747843200-1747848600@www.ridecatbus.org
SUMMARY:HRCTD Board of Directors Meeting
DESCRIPTION:This is a public meeting and public comment may be submitted at the meeting or in advance by sending to the Project Coordinator at Tim@catransit.org. \nJoin Zoom Meeting online:\nhttps://us02web.zoom.us/j/83889113516?pwd=bi91Z0diTTRUVW9lbnkwajJFalpVUT09 \nJoin Zoom Meeting over the phone:\nPhone Number: 253-215-8782\nMeeting ID: 838 8911 3516\nPasscode: 554889
URL:https://www.ridecatbus.org/event/hrctd-board-of-directors-meeting-28/
CATEGORIES:Board Meeting
END:VEVENT
BEGIN:VEVENT
DTSTART;VALUE=DATE:20250526
DTEND;VALUE=DATE:20250527
DTSTAMP:20260423T211810
CREATED:20240705T190902Z
LAST-MODIFIED:20240705T190902Z
UID:11118-1748217600-1748303999@www.ridecatbus.org
SUMMARY:Memorial Day
DESCRIPTION:Operating weekend service
URL:https://www.ridecatbus.org/event/memorial-day/
END:VEVENT
BEGIN:VEVENT
DTSTART;TZID=America/Los_Angeles:20250528T170000
DTEND;TZID=America/Los_Angeles:20250528T183000
DTSTAMP:20260423T211810
CREATED:20250305T012248Z
LAST-MODIFIED:20250524T004251Z
UID:12559-1748451600-1748457000@www.ridecatbus.org
SUMMARY:HRCTD Budget Committee Meeting #2
DESCRIPTION:The purpose of this meeting is to receive public testimony on the FY2026 budget and for the committee to make their formal recommendation to the Board. Any person may appear at the meeting and discuss the proposed programs with the Budget Committee. The Hood River County Transportation District Budget Committee meeting can be attended live through Zoom conferencing technology. Members of the public can attend by clicking the Zoom link below. \nJoin Zoom Meeting by Computer:\nhttps://us02web.zoom.us/j/82835764347?pwd=FDgs1lMb81KrIQF6hE6akvuJ2kH4mb.1\n\nJoin Zoom Meeting by Phone:\n(253)215-8782\nMeeting ID: 828 3576 4347\nPasscode: 954147
URL:https://www.ridecatbus.org/event/hrctd-budget-committee-meeting-2-2/
CATEGORIES:Budget Commitee
END:VEVENT
BEGIN:VEVENT
DTSTART;TZID=America/Los_Angeles:20250529T130000
DTEND;TZID=America/Los_Angeles:20250529T140000
DTSTAMP:20260423T211810
CREATED:20250524T010044Z
LAST-MODIFIED:20250527T161301Z
UID:12874-1748523600-1748527200@www.ridecatbus.org
SUMMARY:STIF Advisory Committee Meeting
DESCRIPTION:This is a public meeting.\nTime: May 29\, 2025 01:00 PM Pacific Time (US and Canada)\nJoin Zoom Meeting: https://us02web.zoom.us/j/84279841049\nMeeting ID: 842 7984 1049\nPhone Number: (253)215-8782
URL:https://www.ridecatbus.org/event/stif-advisory-committee-meeting/
CATEGORIES:Committee
END:VEVENT
END:VCALENDAR