BEGIN:VCALENDAR
VERSION:2.0
PRODID:-//Columbia Area Transit - ECPv6.15.20//NONSGML v1.0//EN
CALSCALE:GREGORIAN
METHOD:PUBLISH
X-WR-CALNAME:Columbia Area Transit
X-ORIGINAL-URL:https://www.ridecatbus.org
X-WR-CALDESC:Events for Columbia Area Transit
REFRESH-INTERVAL;VALUE=DURATION:PT1H
X-Robots-Tag:noindex
X-PUBLISHED-TTL:PT1H
BEGIN:VTIMEZONE
TZID:America/Los_Angeles
BEGIN:DAYLIGHT
TZOFFSETFROM:-0800
TZOFFSETTO:-0700
TZNAME:PDT
DTSTART:20240310T100000
END:DAYLIGHT
BEGIN:STANDARD
TZOFFSETFROM:-0700
TZOFFSETTO:-0800
TZNAME:PST
DTSTART:20241103T090000
END:STANDARD
BEGIN:DAYLIGHT
TZOFFSETFROM:-0800
TZOFFSETTO:-0700
TZNAME:PDT
DTSTART:20250309T100000
END:DAYLIGHT
BEGIN:STANDARD
TZOFFSETFROM:-0700
TZOFFSETTO:-0800
TZNAME:PST
DTSTART:20251102T090000
END:STANDARD
BEGIN:DAYLIGHT
TZOFFSETFROM:-0800
TZOFFSETTO:-0700
TZNAME:PDT
DTSTART:20260308T100000
END:DAYLIGHT
BEGIN:STANDARD
TZOFFSETFROM:-0700
TZOFFSETTO:-0800
TZNAME:PST
DTSTART:20261101T090000
END:STANDARD
END:VTIMEZONE
BEGIN:VEVENT
DTSTART;TZID=America/Los_Angeles:20250416T160000
DTEND;TZID=America/Los_Angeles:20250416T173000
DTSTAMP:20260423T230056
CREATED:20241209T233617Z
LAST-MODIFIED:20250412T000801Z
UID:12049-1744819200-1744824600@www.ridecatbus.org
SUMMARY:HRCTD Board of Directors Meeting
DESCRIPTION:This is a public meeting and public comment may be submitted at the meeting or in advance by sending to the Project Coordinator at Tim@catransit.org. \nJoin Zoom Meeting online:\nhttps://us02web.zoom.us/j/83889113516?pwd=bi91Z0diTTRUVW9lbnkwajJFalpVUT09 \nJoin Zoom Meeting over the phone:\nPhone Number: 253-215-8782\nMeeting ID: 838 8911 3516\nPasscode: 554889
URL:https://www.ridecatbus.org/event/hrctd-board-of-directors-meeting-27/
CATEGORIES:Board Meeting
END:VEVENT
BEGIN:VEVENT
DTSTART;TZID=America/Los_Angeles:20250423T170000
DTEND;TZID=America/Los_Angeles:20250423T183000
DTSTAMP:20260423T230056
CREATED:20250305T011836Z
LAST-MODIFIED:20250419T001425Z
UID:12557-1745427600-1745433000@www.ridecatbus.org
SUMMARY:HRCTD Budget Committee Meeting #1
DESCRIPTION:The purpose of this meeting is to receive the budget message and review the draft FY2026 Budget. This is a public meeting where deliberation on the Budget Committee will take place. The Hood River County Transportation District Budget Committee meeting can be attended live through Zoom conferencing technology. Members of the public can attend by clicking the Zoom link below. \nJoin Zoom Meeting by Computer:\nhttps://us02web.zoom.us/j/82835764347?pwd=FDgs1lMb81KrIQF6hE6akvuJ2kH4mb.1\n\nJoin Zoom Meeting by Phone:\n(253)215-8782\nMeeting ID: 828 3576 4347\nPasscode: 954147
URL:https://www.ridecatbus.org/event/hrctd-budget-committee-meeting-1/
CATEGORIES:Budget Commitee
END:VEVENT
END:VCALENDAR