BEGIN:VCALENDAR
VERSION:2.0
PRODID:-//Columbia Area Transit - ECPv6.15.20//NONSGML v1.0//EN
CALSCALE:GREGORIAN
METHOD:PUBLISH
X-WR-CALNAME:Columbia Area Transit
X-ORIGINAL-URL:https://www.ridecatbus.org
X-WR-CALDESC:Events for Columbia Area Transit
REFRESH-INTERVAL;VALUE=DURATION:PT1H
X-Robots-Tag:noindex
X-PUBLISHED-TTL:PT1H
BEGIN:VTIMEZONE
TZID:America/Los_Angeles
BEGIN:DAYLIGHT
TZOFFSETFROM:-0800
TZOFFSETTO:-0700
TZNAME:PDT
DTSTART:20190310T100000
END:DAYLIGHT
BEGIN:STANDARD
TZOFFSETFROM:-0700
TZOFFSETTO:-0800
TZNAME:PST
DTSTART:20191103T090000
END:STANDARD
BEGIN:DAYLIGHT
TZOFFSETFROM:-0800
TZOFFSETTO:-0700
TZNAME:PDT
DTSTART:20200308T100000
END:DAYLIGHT
BEGIN:STANDARD
TZOFFSETFROM:-0700
TZOFFSETTO:-0800
TZNAME:PST
DTSTART:20201101T090000
END:STANDARD
BEGIN:DAYLIGHT
TZOFFSETFROM:-0800
TZOFFSETTO:-0700
TZNAME:PDT
DTSTART:20210314T100000
END:DAYLIGHT
BEGIN:STANDARD
TZOFFSETFROM:-0700
TZOFFSETTO:-0800
TZNAME:PST
DTSTART:20211107T090000
END:STANDARD
END:VTIMEZONE
BEGIN:VEVENT
DTSTART;TZID=America/Los_Angeles:20200415T150000
DTEND;TZID=America/Los_Angeles:20200415T170000
DTSTAMP:20260421T093847
CREATED:20200320T220300Z
LAST-MODIFIED:20200408T141954Z
UID:1555-1586962800-1586970000@www.ridecatbus.org
SUMMARY:HRCTD Board of Directors Meeting
DESCRIPTION:The Hood River County Transportation District is taking measures to limit exposure of COVID-19. In support of state and federal guidelines for social distancing\, HRCTD will hold this meeting by using Vonage conferencing. Members of the public can call the below number to attend the meeting.  \nDial-In: +1 732-200-1872\, Meeting PIN: 155221 \nAgenda
URL:https://www.ridecatbus.org/event/hrctd-board-of-directors-meeting-4/
LOCATION:CAT Offices\, 224 Wasco Loop\, Hood River\, OR\, 97031\, United States
CATEGORIES:Board Meeting
END:VEVENT
BEGIN:VEVENT
DTSTART;TZID=America/Los_Angeles:20200401T150000
DTEND;TZID=America/Los_Angeles:20200401T160000
DTSTAMP:20260421T093847
CREATED:20200401T154733Z
LAST-MODIFIED:20200401T154733Z
UID:1624-1585753200-1585756800@www.ridecatbus.org
SUMMARY:Emergency HRCTD Board Meeting
DESCRIPTION:Due to the current COVID-19 health crisis this meeting will be held virtually. To join the meeting please dial in by phone or link. \nLink: https://meetings.vonage.com/155221\nDial-In: +1 732-200-1872\, Meeting PIN: 155221
URL:https://www.ridecatbus.org/event/emergency-hrctd-board-meeting/
END:VEVENT
BEGIN:VEVENT
DTSTART;TZID=America/Los_Angeles:20200325T150000
DTEND;TZID=America/Los_Angeles:20200325T160000
DTSTAMP:20260421T093847
CREATED:20200408T160033Z
LAST-MODIFIED:20200408T160212Z
UID:1640-1585148400-1585152000@www.ridecatbus.org
SUMMARY:Emergency HRCTD Board Meeting
DESCRIPTION:
URL:https://www.ridecatbus.org/event/emergency-meeting-of-the-board-of-directors/
LOCATION:CAT Offices\, 224 Wasco Loop\, Hood River\, OR\, 97031\, United States
END:VEVENT
END:VCALENDAR